BEGIN:VCALENDAR
PRODID:-//Amazone Events Calendar//iCal4j 1.0//EN
VERSION:2.0
CALSCALE:GREGORIAN
BEGIN:VEVENT
DTSTAMP:20260423T222242Z
DTSTART:20260909T220000
DTEND:20260912T220000
SUMMARY:Mela
UID:f50bb98e-d7fb-4518-979e-2d4539813d63
LOCATION:Mühlengeez
COUNTRY:Deutschland
END:VEVENT
END:VCALENDAR
