BEGIN:VCALENDAR
PRODID:-//Amazone Events Calendar//iCal4j 1.0//EN
VERSION:2.0
CALSCALE:GREGORIAN
BEGIN:VEVENT
DTSTAMP:20260423T233915Z
DTSTART:20260609T220000
DTEND:20260610T220000
SUMMARY:Osnabrücker Leichtbautage 2026 
UID:960dcd4e-4415-47b0-83f4-d15fd38f33d3
LOCATION:Osnabrück
COUNTRY:Germany
END:VEVENT
END:VCALENDAR
